Package: fmcsR Version: 1.49.0 Command: /home/biocbuild/bbs-3.21-bioc/R/bin/R CMD INSTALL fmcsR StartedAt: 2025-02-19 15:12:50 -0500 (Wed, 19 Feb 2025) EndedAt: 2025-02-19 15:13:08 -0500 (Wed, 19 Feb 2025) EllapsedTime: 17.7 seconds RetCode: 0 Status: OK