Package: fmcsR Version: 1.49.0 Command: /home/biocbuild/bbs-3.21-bioc/R/bin/R CMD check --install=check:fmcsR.install-out.txt --library=/home/biocbuild/bbs-3.21-bioc/R/site-library --timings fmcsR_1.49.0.tar.gz StartedAt: 2025-02-19 22:20:15 -0500 (Wed, 19 Feb 2025) EndedAt: 2025-02-19 22:21:33 -0500 (Wed, 19 Feb 2025) EllapsedTime: 78.2 seconds RetCode: 0 Status: OK CheckDir: fmcsR.Rcheck Warnings: 0