Package: fmcsR Version: 1.49.0 Command: /Library/Frameworks/R.framework/Resources/bin/R CMD build --keep-empty-dirs --no-resave-data fmcsR StartedAt: 2025-02-19 16:44:05 -0500 (Wed, 19 Feb 2025) EndedAt: 2025-02-19 16:44:58 -0500 (Wed, 19 Feb 2025) EllapsedTime: 52.6 seconds RetCode: 0 Status: OK PackageFile: fmcsR_1.49.0.tar.gz PackageFileSize: 864.6 KiB