Package: flowcatchR Version: 1.41.2 Command: chmod a+r flowcatchR -R && E:\biocbuild\bbs-3.21-bioc\R\bin\R.exe CMD build --keep-empty-dirs --no-resave-data flowcatchR StartedAt: 2025-02-20 18:46:53 -0500 (Thu, 20 Feb 2025) EndedAt: 2025-02-20 18:48:38 -0500 (Thu, 20 Feb 2025) EllapsedTime: 104.8 seconds RetCode: 0 Status: OK PackageFile: flowcatchR_1.41.2.tar.gz PackageFileSize: 6.76 MiB