Package: flowcatchR Version: 1.41.2 Command: /Library/Frameworks/R.framework/Resources/bin/R CMD INSTALL flowcatchR StartedAt: 2025-02-20 15:25:25 -0500 (Thu, 20 Feb 2025) EndedAt: 2025-02-20 15:25:39 -0500 (Thu, 20 Feb 2025) EllapsedTime: 14.1 seconds RetCode: 0 Status: OK