Package: flowcatchR Version: 1.41.2 Command: /Library/Frameworks/R.framework/Resources/bin/R CMD build --keep-empty-dirs --no-resave-data flowcatchR StartedAt: 2025-02-20 16:21:07 -0500 (Thu, 20 Feb 2025) EndedAt: 2025-02-20 16:21:23 -0500 (Thu, 20 Feb 2025) EllapsedTime: 16.2 seconds RetCode: 0 Status: OK PackageFile: flowcatchR_1.41.2.tar.gz PackageFileSize: 6.849 MiB