Package: flowWorkspace Version: 4.19.0 Command: E:\biocbuild\bbs-3.21-bioc\R\bin\R.exe CMD INSTALL flowWorkspace StartedAt: 2025-02-19 15:43:42 -0500 (Wed, 19 Feb 2025) EndedAt: 2025-02-19 15:46:26 -0500 (Wed, 19 Feb 2025) EllapsedTime: 164.7 seconds RetCode: 1 Status: ERROR