Package: flowWorkspace Version: 4.19.0 Command: chmod a+r flowWorkspace -R && E:\biocbuild\bbs-3.21-bioc\R\bin\R.exe CMD build --keep-empty-dirs --no-resave-data flowWorkspace StartedAt: 2025-02-19 18:47:23 -0500 (Wed, 19 Feb 2025) EndedAt: 2025-02-19 18:52:05 -0500 (Wed, 19 Feb 2025) EllapsedTime: 281.5 seconds RetCode: 1 Status: ERROR PackageFile: None PackageFileSize: NA