Package: flowWorkspace Version: 4.19.0 Command: /home/biocbuild/bbs-3.21-bioc/R/bin/R CMD INSTALL flowWorkspace StartedAt: 2025-02-19 15:16:19 -0500 (Wed, 19 Feb 2025) EndedAt: 2025-02-19 15:18:29 -0500 (Wed, 19 Feb 2025) EllapsedTime: 129.4 seconds RetCode: 0 Status: OK