Package: flowWorkspace Version: 4.19.0 Command: /Library/Frameworks/R.framework/Resources/bin/R CMD build --keep-empty-dirs --no-resave-data flowWorkspace StartedAt: 2025-02-19 16:44:05 -0500 (Wed, 19 Feb 2025) EndedAt: 2025-02-19 16:46:33 -0500 (Wed, 19 Feb 2025) EllapsedTime: 147.7 seconds RetCode: 0 Status: OK PackageFile: flowWorkspace_4.19.0.tar.gz PackageFileSize: 5.705 MiB