Package: flowWorkspace Version: 4.19.0 Command: rm -rf flowWorkspace.buildbin-libdir && mkdir flowWorkspace.buildbin-libdir && /Users/biocbuild/BBS/utils/build-universal.sh flowWorkspace_4.19.0.tar.gz /Library/Frameworks/R.framework/Resources/bin/R flowWorkspace.buildbin-libdir StartedAt: 2025-02-20 22:19:21 -0500 (Thu, 20 Feb 2025) EndedAt: 2025-02-20 22:20:00 -0500 (Thu, 20 Feb 2025) EllapsedTime: 39.0 seconds RetCode: 0 Status: OK PackageFile: flowWorkspace_4.19.0.tgz PackageFileSize: 5.856 MiB