Package: flowViz Version: 1.71.0 Command: E:\biocbuild\bbs-3.21-bioc\R\bin\R.exe CMD INSTALL flowViz StartedAt: 2025-02-21 16:30:02 -0500 (Fri, 21 Feb 2025) EndedAt: 2025-02-21 16:30:39 -0500 (Fri, 21 Feb 2025) EllapsedTime: 36.9 seconds RetCode: 0 Status: OK