Package: flowViz Version: 1.71.0 Command: /home/biocbuild/bbs-3.21-bioc/R/bin/R CMD check --install=check:flowViz.install-out.txt --library=/home/biocbuild/bbs-3.21-bioc/R/site-library --timings flowViz_1.71.0.tar.gz StartedAt: 2025-02-19 22:19:47 -0500 (Wed, 19 Feb 2025) EndedAt: 2025-02-19 22:22:41 -0500 (Wed, 19 Feb 2025) EllapsedTime: 174.3 seconds RetCode: 0 Status: OK CheckDir: flowViz.Rcheck Warnings: 0