Package: flowViz Version: 1.71.0 Command: /home/biocbuild/bbs-3.21-bioc/R/bin/R CMD build --keep-empty-dirs --no-resave-data flowViz StartedAt: 2025-02-21 17:50:14 -0500 (Fri, 21 Feb 2025) EndedAt: 2025-02-21 17:50:29 -0500 (Fri, 21 Feb 2025) EllapsedTime: 14.0 seconds RetCode: 1 Status: ERROR PackageFile: None PackageFileSize: NA