Package: flowViz Version: 1.71.0 Command: /Library/Frameworks/R.framework/Resources/bin/R CMD INSTALL flowViz StartedAt: 2025-02-21 15:12:45 -0500 (Fri, 21 Feb 2025) EndedAt: 2025-02-21 15:13:06 -0500 (Fri, 21 Feb 2025) EllapsedTime: 21.8 seconds RetCode: 0 Status: OK