Package: flowVS Version: 1.39.0 Command: /home/biocbuild/bbs-3.21-bioc/R/bin/R CMD check --install=check:flowVS.install-out.txt --library=/home/biocbuild/bbs-3.21-bioc/R/site-library --timings flowVS_1.39.0.tar.gz StartedAt: 2025-02-19 22:19:51 -0500 (Wed, 19 Feb 2025) EndedAt: 2025-02-19 22:23:35 -0500 (Wed, 19 Feb 2025) EllapsedTime: 224.4 seconds RetCode: 0 Status: OK CheckDir: flowVS.Rcheck Warnings: 0