Package: flowVS Version: 1.39.0 Command: /Library/Frameworks/R.framework/Resources/bin/R CMD INSTALL flowVS StartedAt: 2025-02-20 15:45:00 -0500 (Thu, 20 Feb 2025) EndedAt: 2025-02-20 15:45:17 -0500 (Thu, 20 Feb 2025) EllapsedTime: 17.0 seconds RetCode: 0 Status: OK