Package: flowVS Version: 1.39.0 Command: /Library/Frameworks/R.framework/Resources/bin/R CMD build --keep-empty-dirs --no-resave-data flowVS StartedAt: 2025-02-20 16:22:23 -0500 (Thu, 20 Feb 2025) EndedAt: 2025-02-20 16:23:17 -0500 (Thu, 20 Feb 2025) EllapsedTime: 53.6 seconds RetCode: 0 Status: OK PackageFile: flowVS_1.39.0.tar.gz PackageFileSize: 3.699 MiB