Package: flowVS Version: 1.39.0 Command: rm -rf flowVS.buildbin-libdir && mkdir flowVS.buildbin-libdir && /Users/biocbuild/BBS/utils/build-universal.sh flowVS_1.39.0.tar.gz /Library/Frameworks/R.framework/Resources/bin/R flowVS.buildbin-libdir StartedAt: 2025-02-20 22:19:20 -0500 (Thu, 20 Feb 2025) EndedAt: 2025-02-20 22:19:28 -0500 (Thu, 20 Feb 2025) EllapsedTime: 7.3 seconds RetCode: 0 Status: OK PackageFile: flowVS_1.39.0.tgz PackageFileSize: 3.587 MiB