Package: flowTrans Version: 1.59.0 Command: E:\biocbuild\bbs-3.21-bioc\R\bin\R.exe CMD INSTALL flowTrans StartedAt: 2025-02-20 15:51:55 -0500 (Thu, 20 Feb 2025) EndedAt: 2025-02-20 15:52:10 -0500 (Thu, 20 Feb 2025) EllapsedTime: 15.2 seconds RetCode: 0 Status: OK