Package: flowTrans Version: 1.59.0 Command: E:\biocbuild\bbs-3.21-bioc\R\bin\R.exe CMD check --no-multiarch --install=check:flowTrans.install-out.txt --library=E:\biocbuild\bbs-3.21-bioc\R\library --no-vignettes --timings flowTrans_1.59.0.tar.gz StartedAt: 2025-02-21 01:28:54 -0500 (Fri, 21 Feb 2025) EndedAt: 2025-02-21 01:30:14 -0500 (Fri, 21 Feb 2025) EllapsedTime: 80.1 seconds RetCode: 0 Status: OK CheckDir: flowTrans.Rcheck Warnings: 0