Package: flowTrans Version: 1.59.0 Command: chmod a+r flowTrans -R && E:\biocbuild\bbs-3.21-bioc\R\bin\R.exe CMD build --keep-empty-dirs --no-resave-data flowTrans StartedAt: 2025-02-20 18:49:10 -0500 (Thu, 20 Feb 2025) EndedAt: 2025-02-20 18:49:42 -0500 (Thu, 20 Feb 2025) EllapsedTime: 32.6 seconds RetCode: 0 Status: OK PackageFile: flowTrans_1.59.0.tar.gz PackageFileSize: 372.7 KiB