Package: flowTrans Version: 1.59.0 Command: rm -rf flowTrans.buildbin-libdir && mkdir flowTrans.buildbin-libdir && E:\biocbuild\bbs-3.21-bioc\R\bin\R.exe CMD INSTALL --build --library=flowTrans.buildbin-libdir flowTrans_1.59.0.tar.gz StartedAt: 2025-02-21 08:07:19 -0500 (Fri, 21 Feb 2025) EndedAt: 2025-02-21 08:07:41 -0500 (Fri, 21 Feb 2025) EllapsedTime: 21.6 seconds RetCode: 0 Status: OK PackageFile: flowTrans_1.59.0.zip PackageFileSize: 418.4 KiB