Package: flowTrans Version: 1.59.0 Command: /Library/Frameworks/R.framework/Resources/bin/R CMD build --keep-empty-dirs --no-resave-data flowTrans StartedAt: 2025-02-20 16:43:23 -0500 (Thu, 20 Feb 2025) EndedAt: 2025-02-20 16:43:49 -0500 (Thu, 20 Feb 2025) EllapsedTime: 26.4 seconds RetCode: 0 Status: OK PackageFile: flowTrans_1.59.0.tar.gz PackageFileSize: 479.9 KiB