Package: flowTime Version: 1.31.0 Command: E:\biocbuild\bbs-3.21-bioc\R\bin\R.exe CMD INSTALL flowTime StartedAt: 2025-02-21 16:29:56 -0500 (Fri, 21 Feb 2025) EndedAt: 2025-02-21 16:30:27 -0500 (Fri, 21 Feb 2025) EllapsedTime: 30.7 seconds RetCode: 0 Status: OK