Package: flowTime Version: 1.31.0 Command: chmod a+r flowTime -R && E:\biocbuild\bbs-3.21-bioc\R\bin\R.exe CMD build --keep-empty-dirs --no-resave-data flowTime StartedAt: 2025-02-20 18:48:59 -0500 (Thu, 20 Feb 2025) EndedAt: 2025-02-20 18:50:04 -0500 (Thu, 20 Feb 2025) EllapsedTime: 64.8 seconds RetCode: 0 Status: OK PackageFile: flowTime_1.31.0.tar.gz PackageFileSize: 2.193 MiB