Package: flowTime Version: 1.31.0 Command: /home/biocbuild/bbs-3.21-bioc/R/bin/R CMD build --keep-empty-dirs --no-resave-data flowTime StartedAt: 2025-02-20 17:29:27 -0500 (Thu, 20 Feb 2025) EndedAt: 2025-02-20 17:29:42 -0500 (Thu, 20 Feb 2025) EllapsedTime: 15.0 seconds RetCode: 1 Status: ERROR PackageFile: None PackageFileSize: NA