Package: flowTime Version: 1.31.0 Command: rm -rf flowTime.buildbin-libdir && mkdir flowTime.buildbin-libdir && /Users/biocbuild/BBS/utils/build-universal.sh flowTime_1.31.0.tar.gz /Library/Frameworks/R.framework/Resources/bin/R flowTime.buildbin-libdir StartedAt: 2025-02-21 00:31:18 -0500 (Fri, 21 Feb 2025) EndedAt: 2025-02-21 00:31:33 -0500 (Fri, 21 Feb 2025) EllapsedTime: 14.9 seconds RetCode: 0 Status: OK PackageFile: flowTime_1.31.0.tgz PackageFileSize: 2.68 MiB