Package: flowStats Version: 4.19.0 Command: E:\biocbuild\bbs-3.21-bioc\R\bin\R.exe CMD check --no-multiarch --install=check:flowStats.install-out.txt --library=E:\biocbuild\bbs-3.21-bioc\R\library --no-vignettes --timings flowStats_4.19.0.tar.gz StartedAt: 2025-02-21 01:28:41 -0500 (Fri, 21 Feb 2025) EndedAt: 2025-02-21 01:32:36 -0500 (Fri, 21 Feb 2025) EllapsedTime: 235.5 seconds RetCode: 0 Status: WARNINGS CheckDir: flowStats.Rcheck Warnings: 4