Package: flowStats Version: 4.19.0 Command: rm -rf flowStats.buildbin-libdir && mkdir flowStats.buildbin-libdir && E:\biocbuild\bbs-3.21-bioc\R\bin\R.exe CMD INSTALL --build --library=flowStats.buildbin-libdir flowStats_4.19.0.tar.gz StartedAt: 2025-02-21 08:07:13 -0500 (Fri, 21 Feb 2025) EndedAt: 2025-02-21 08:08:18 -0500 (Fri, 21 Feb 2025) EllapsedTime: 64.5 seconds RetCode: 0 Status: OK PackageFile: flowStats_4.19.0.zip PackageFileSize: 11.68 MiB