Package: flowStats Version: 4.19.0 Command: /Library/Frameworks/R.framework/Resources/bin/R CMD check --install=check:flowStats.install-out.txt --library=/Library/Frameworks/R.framework/Resources/library --no-vignettes --timings flowStats_4.19.0.tar.gz StartedAt: 2025-02-20 19:19:00 -0500 (Thu, 20 Feb 2025) EndedAt: 2025-02-20 19:20:10 -0500 (Thu, 20 Feb 2025) EllapsedTime: 69.9 seconds RetCode: 0 Status: WARNINGS CheckDir: flowStats.Rcheck Warnings: 4