Package: flowStats Version: 4.19.0 Command: /Library/Frameworks/R.framework/Resources/bin/R CMD build --keep-empty-dirs --no-resave-data flowStats StartedAt: 2025-02-20 16:22:17 -0500 (Thu, 20 Feb 2025) EndedAt: 2025-02-20 16:22:59 -0500 (Thu, 20 Feb 2025) EllapsedTime: 41.5 seconds RetCode: 0 Status: OK PackageFile: flowStats_4.19.0.tar.gz PackageFileSize: 10.97 MiB