Package: flowStats Version: 4.19.0 Command: rm -rf flowStats.buildbin-libdir && mkdir flowStats.buildbin-libdir && /Users/biocbuild/BBS/utils/build-universal.sh flowStats_4.19.0.tar.gz /Library/Frameworks/R.framework/Resources/bin/R flowStats.buildbin-libdir StartedAt: 2025-02-20 22:19:17 -0500 (Thu, 20 Feb 2025) EndedAt: 2025-02-20 22:19:28 -0500 (Thu, 20 Feb 2025) EllapsedTime: 10.5 seconds RetCode: 0 Status: OK PackageFile: flowStats_4.19.0.tgz PackageFileSize: 11.71 MiB