Package: flowSpecs Version: 1.21.0 Command: E:\biocbuild\bbs-3.21-bioc\R\bin\R.exe CMD INSTALL flowSpecs StartedAt: 2025-02-18 15:37:04 -0500 (Tue, 18 Feb 2025) EndedAt: 2025-02-18 15:37:24 -0500 (Tue, 18 Feb 2025) EllapsedTime: 20.5 seconds RetCode: 0 Status: OK