Package: flowSpecs Version: 1.21.0 Command: /home/biocbuild/bbs-3.21-bioc/R/bin/R CMD INSTALL flowSpecs StartedAt: 2025-02-18 15:12:02 -0500 (Tue, 18 Feb 2025) EndedAt: 2025-02-18 15:12:11 -0500 (Tue, 18 Feb 2025) EllapsedTime: 8.9 seconds RetCode: 0 Status: OK