Package: flowSpecs Version: 1.21.0 Command: /home/biocbuild/bbs-3.21-bioc/R/bin/R CMD check --install=check:flowSpecs.install-out.txt --library=/home/biocbuild/bbs-3.21-bioc/R/site-library --timings flowSpecs_1.21.0.tar.gz StartedAt: 2025-02-18 22:09:37 -0500 (Tue, 18 Feb 2025) EndedAt: 2025-02-18 22:11:09 -0500 (Tue, 18 Feb 2025) EllapsedTime: 92.2 seconds RetCode: 0 Status: OK CheckDir: flowSpecs.Rcheck Warnings: 0