Package: flowPlots Version: 1.55.0 Command: /home/biocbuild/bbs-3.21-bioc/R/bin/R CMD INSTALL flowPlots StartedAt: 2025-02-18 15:01:39 -0500 (Tue, 18 Feb 2025) EndedAt: 2025-02-18 15:01:54 -0500 (Tue, 18 Feb 2025) EllapsedTime: 14.2 seconds RetCode: 0 Status: OK