Package: flowPeaks Version: 1.53.2 Command: /home/biocbuild/bbs-3.21-bioc/R/bin/R CMD check --install=check:flowPeaks.install-out.txt --library=/home/biocbuild/bbs-3.21-bioc/R/site-library --timings flowPeaks_1.53.2.tar.gz StartedAt: 2025-02-19 22:18:48 -0500 (Wed, 19 Feb 2025) EndedAt: 2025-02-19 22:19:14 -0500 (Wed, 19 Feb 2025) EllapsedTime: 26.0 seconds RetCode: 0 Status: OK CheckDir: flowPeaks.Rcheck Warnings: 0