Package: flowPeaks Version: 1.53.2 Command: /Library/Frameworks/R.framework/Resources/bin/R CMD check --install=check:flowPeaks.install-out.txt --library=/Library/Frameworks/R.framework/Resources/library --no-vignettes --timings flowPeaks_1.53.2.tar.gz StartedAt: 2025-02-19 20:30:13 -0500 (Wed, 19 Feb 2025) EndedAt: 2025-02-19 20:30:51 -0500 (Wed, 19 Feb 2025) EllapsedTime: 38.2 seconds RetCode: 0 Status: OK CheckDir: flowPeaks.Rcheck Warnings: 0