Package: flowMeans Version: 1.67.0 Command: /home/biocbuild/bbs-3.21-bioc/R/bin/R CMD build --keep-empty-dirs --no-resave-data flowMeans StartedAt: 2025-02-20 17:29:02 -0500 (Thu, 20 Feb 2025) EndedAt: 2025-02-20 17:29:27 -0500 (Thu, 20 Feb 2025) EllapsedTime: 25.0 seconds RetCode: 0 Status: OK PackageFile: flowMeans_1.67.0.tar.gz PackageFileSize: 3.284 MiB