Package: flowMeans Version: 1.67.0 Command: /Library/Frameworks/R.framework/Resources/bin/R CMD INSTALL flowMeans StartedAt: 2025-02-20 15:03:51 -0500 (Thu, 20 Feb 2025) EndedAt: 2025-02-20 15:04:02 -0500 (Thu, 20 Feb 2025) EllapsedTime: 11.0 seconds RetCode: 0 Status: OK