Package: flowMeans Version: 1.67.0 Command: /Library/Frameworks/R.framework/Resources/bin/R CMD build --keep-empty-dirs --no-resave-data flowMeans StartedAt: 2025-02-20 16:21:56 -0500 (Thu, 20 Feb 2025) EndedAt: 2025-02-20 16:22:11 -0500 (Thu, 20 Feb 2025) EllapsedTime: 15.2 seconds RetCode: 0 Status: OK PackageFile: flowMeans_1.67.0.tar.gz PackageFileSize: 3.284 MiB