Package: flowMatch Version: 1.43.0 Command: E:\biocbuild\bbs-3.21-bioc\R\bin\R.exe CMD check --no-multiarch --install=check:flowMatch.install-out.txt --library=E:\biocbuild\bbs-3.21-bioc\R\library --no-vignettes --timings flowMatch_1.43.0.tar.gz StartedAt: 2025-02-18 00:59:55 -0500 (Tue, 18 Feb 2025) EndedAt: 2025-02-18 01:02:08 -0500 (Tue, 18 Feb 2025) EllapsedTime: 132.8 seconds RetCode: 0 Status: OK CheckDir: flowMatch.Rcheck Warnings: 0