Package: flowMatch Version: 1.43.0 Command: chmod a+r flowMatch -R && E:\biocbuild\bbs-3.21-bioc\R\bin\R.exe CMD build --keep-empty-dirs --no-resave-data flowMatch StartedAt: 2025-02-17 18:38:39 -0500 (Mon, 17 Feb 2025) EndedAt: 2025-02-17 18:39:45 -0500 (Mon, 17 Feb 2025) EllapsedTime: 66.5 seconds RetCode: 0 Status: OK PackageFile: flowMatch_1.43.0.tar.gz PackageFileSize: 3.561 MiB