Package: flowMatch Version: 1.43.0 Command: rm -rf flowMatch.buildbin-libdir && mkdir flowMatch.buildbin-libdir && E:\biocbuild\bbs-3.21-bioc\R\bin\R.exe CMD INSTALL --build --library=flowMatch.buildbin-libdir flowMatch_1.43.0.tar.gz StartedAt: 2025-02-18 07:21:44 -0500 (Tue, 18 Feb 2025) EndedAt: 2025-02-18 07:24:12 -0500 (Tue, 18 Feb 2025) EllapsedTime: 148.1 seconds RetCode: 0 Status: OK PackageFile: flowMatch_1.43.0.zip PackageFileSize: 4.189 MiB