Package: flowMatch Version: 1.43.0 Command: /home/biocbuild/bbs-3.21-bioc/R/bin/R CMD INSTALL flowMatch StartedAt: 2025-02-17 15:13:31 -0500 (Mon, 17 Feb 2025) EndedAt: 2025-02-17 15:13:57 -0500 (Mon, 17 Feb 2025) EllapsedTime: 25.7 seconds RetCode: 0 Status: OK