Package: flowMatch Version: 1.43.0 Command: /Library/Frameworks/R.framework/Resources/bin/R CMD check --install=check:flowMatch.install-out.txt --library=/Library/Frameworks/R.framework/Resources/library --no-vignettes --timings flowMatch_1.43.0.tar.gz StartedAt: 2025-02-19 20:29:54 -0500 (Wed, 19 Feb 2025) EndedAt: 2025-02-19 20:31:44 -0500 (Wed, 19 Feb 2025) EllapsedTime: 109.5 seconds RetCode: 0 Status: OK CheckDir: flowMatch.Rcheck Warnings: 0