Package: flowMatch Version: 1.43.0 Command: rm -rf flowMatch.buildbin-libdir && mkdir flowMatch.buildbin-libdir && /Users/biocbuild/BBS/utils/build-universal.sh flowMatch_1.43.0.tar.gz /Library/Frameworks/R.framework/Resources/bin/R flowMatch.buildbin-libdir StartedAt: 2025-02-17 22:17:43 -0500 (Mon, 17 Feb 2025) EndedAt: 2025-02-17 22:17:53 -0500 (Mon, 17 Feb 2025) EllapsedTime: 9.2 seconds RetCode: 0 Status: OK PackageFile: flowMatch_1.43.0.tgz PackageFileSize: 3.988 MiB