Package: flowMatch Version: 1.43.0 Maintainer: Ariful Azad MaintainerEmail: azad at lbl.gov git_url: https://git.bioconductor.org/packages/flowMatch git_branch: devel git_last_commit: 8cc0506 git_last_commit_date: 2024-10-29 09:49:28 -0500 (Tue, 29 Oct 2024)