Package: flowGraph Version: 1.15.0 Command: rm -rf flowGraph.buildbin-libdir && mkdir flowGraph.buildbin-libdir && E:\biocbuild\bbs-3.21-bioc\R\bin\R.exe CMD INSTALL --build --library=flowGraph.buildbin-libdir flowGraph_1.15.0.tar.gz StartedAt: 2025-02-21 08:06:59 -0500 (Fri, 21 Feb 2025) EndedAt: 2025-02-21 08:07:51 -0500 (Fri, 21 Feb 2025) EllapsedTime: 52.0 seconds RetCode: 0 Status: OK PackageFile: flowGraph_1.15.0.zip PackageFileSize: 1.605 MiB